BEGIN:VCALENDAR
VERSION:2.0
PRODID:-//Learning Designs - ECPv6.15.20//NONSGML v1.0//EN
CALSCALE:GREGORIAN
METHOD:PUBLISH
X-WR-CALNAME:Learning Designs
X-ORIGINAL-URL:https://learningdesignsglobal.com
X-WR-CALDESC:Events for Learning Designs
REFRESH-INTERVAL;VALUE=DURATION:PT1H
X-Robots-Tag:noindex
X-PUBLISHED-TTL:PT1H
BEGIN:VTIMEZONE
TZID:Europe/Moscow
BEGIN:STANDARD
TZOFFSETFROM:+0300
TZOFFSETTO:+0300
TZNAME:MSK
DTSTART:20220101T000000
END:STANDARD
END:VTIMEZONE
BEGIN:VEVENT
DTSTART;TZID=Europe/Moscow:20231022T110000
DTEND;TZID=Europe/Moscow:20231022T163000
DTSTAMP:20260423T110407
CREATED:20221231T210106Z
LAST-MODIFIED:20230323T215649Z
UID:11146-1697972400-1697992200@learningdesignsglobal.com
SUMMARY:WHAT IS TRAINING ABOUT?
DESCRIPTION:What is Training About?It is a game-based training in which interactive methods are learned on new people\, learning names\, establishing group dynamics and creating synergy\, among people who are actively involved in business life\, trainings and classes. Training DetailsTraining Date: October 20\, 2023Training Hours: 11.00am – 16.30pm Training Location: ZoomAddress: Bereketzade Mah. Buyuk Hendek Cad. Bicakci Hani No:23 Galata Kuledibi Beyoglu/Istanbul Note: A booklet with the games\, methods and alternatives applied throughout the training is shared with the participants. At the same time\, a “Certificate of Participation” is given at the end of the training. Who can attend the training?– Trainers– Teachers– Education coordinators working in the Civil Society field– Educational designers– Digital and physical game designers– Anyone interested in education
URL:https://learningdesignsglobal.com/yaklasan-egitimler/what-is-training-about/
LOCATION:Online\, Online\, Zoom\, İstanbul
CATEGORIES:Kendini Geliştir Bir Eğitim Al
ORGANIZER;CN="Online":MAILTO:hi@learningdesignsglobal.com
END:VEVENT
END:VCALENDAR